BEGIN:VCALENDAR
VERSION:2.0
PRODID:SchoolNow
CALSCALE:GREGORIAN
BEGIN:VEVENT
UID:cae51b8c-0cbe-11ef-8433-0a58a9feac02
DTSTAMP:20240507T221221Z
SUMMARY:End of Year Celebration at ECC
URL;VALUE=URI:https://www.dist126.org/early-childhood-center/calendar/59320
 10/end-of-year-celebration-at-ecc
DTSTART;VALUE=DATE:20240528
DTEND;VALUE=DATE:20240529
END:VEVENT
END:VCALENDAR
