BEGIN:VCALENDAR
VERSION:2.0
PRODID:SchoolNow
CALSCALE:GREGORIAN
BEGIN:VEVENT
UID:be268714-0cbe-11ef-bd19-0eb055f8ced1
DTSTAMP:20240507T221124Z
SUMMARY:Last Day of School for Early Childhood Center
URL;VALUE=URI:https://www.dist126.org/early-childhood-center/calendar/59320
 09/last-day-of-school-for-early-childhood-center
DTSTART;VALUE=DATE:20240530
DTEND;VALUE=DATE:20240531
END:VEVENT
END:VCALENDAR
