BEGIN:VCALENDAR
VERSION:2.0
PRODID:SchoolNow
CALSCALE:GREGORIAN
BEGIN:VEVENT
UID:a21318b2-0cbe-11ef-a49a-0a58a9feac02
DTSTAMP:20240507T221037Z
SUMMARY:All School Field Trip-NO PM CLASS
URL;VALUE=URI:https://www.dist126.org/early-childhood-center/calendar/59320
 08/all-school-field-trip-no-pm-class
DTSTART;VALUE=DATE:20240520
DTEND;VALUE=DATE:20240521
END:VEVENT
END:VCALENDAR
