BEGIN:VCALENDAR
VERSION:2.0
PRODID:SchoolNow
CALSCALE:GREGORIAN
BEGIN:VEVENT
UID:b57bca40-798c-11ee-ba6e-0a58a9feac02
DTSTAMP:20231102T143254Z
SUMMARY:No School for Students
URL;VALUE=URI:https://www.dist126.org/early-childhood-center/calendar/49210
 03/no-school-for-students
DTSTART:20231121T153100Z
DTEND:20231124T163100Z
END:VEVENT
END:VCALENDAR
