BEGIN:VCALENDAR
VERSION:2.0
PRODID:SchoolNow
CALSCALE:GREGORIAN
BEGIN:VEVENT
UID:2f11989a-798c-11ee-99f6-0e68d077e9c9
DTSTAMP:20231102T142934Z
SUMMARY:No ECC Classes
URL;VALUE=URI:https://www.dist126.org/early-childhood-center/calendar/49210
 02/no-edd-classes
DTSTART:20231120T152800Z
DTEND:20231120T162800Z
END:VEVENT
END:VCALENDAR
