BEGIN:VCALENDAR
VERSION:2.0
PRODID:SchoolNow
CALSCALE:GREGORIAN
BEGIN:VEVENT
UID:01c227c4-798c-11ee-b8cc-0a58a9feac02
DTSTAMP:20231102T142752Z
SUMMARY:Down on the Farm Family Fall Party
URL;VALUE=URI:https://www.dist126.org/early-childhood-center/calendar/49210
 01/down-on-the-farm-family-fall-party
DTSTART:20231117T152600Z
DTEND:20231117T162600Z
END:VEVENT
END:VCALENDAR
