BEGIN:VCALENDAR
VERSION:2.0
PRODID:SchoolNow
CALSCALE:GREGORIAN
BEGIN:VEVENT
UID:cb5b7cb8-78ef-11ee-95ef-0a58a9feac02
DTSTAMP:20231101T195825Z
SUMMARY:Picture Retake Day
URL;VALUE=URI:https://www.dist126.org/early-childhood-center/calendar/49189
 22/picture-retake-day
DTSTART:20231115T060000Z
DTEND:20231116T055900Z
END:VEVENT
END:VCALENDAR
