BEGIN:VCALENDAR
VERSION:2.0
PRODID:SchoolNow
CALSCALE:GREGORIAN
BEGIN:VEVENT
UID:4071e942-d229-11ed-90d0-0e8b26d7f98b
DTSTAMP:20230403T141851Z
SUMMARY:NO SCHOOL
URL;VALUE=URI:https://www.dist126.org/early-childhood-center/calendar/39729
 15/no-school
DTSTART;VALUE=DATE:20230404
DTEND;VALUE=DATE:20230405
END:VEVENT
END:VCALENDAR
