BEGIN:VCALENDAR
VERSION:2.0
PRODID:SchoolNow
CALSCALE:GREGORIAN
BEGIN:VEVENT
UID:bcf4d546-976f-11ed-967c-0a93937208a3
DTSTAMP:20230118T203608Z
SUMMARY:END OF SECOND TRIMESTER 02/24
URL;VALUE=URI:https://www.dist126.org/early-childhood-center/calendar/36724
 04/end-of-second-trimester-02-24
DTSTART:20230224T143500Z
DTEND:20230224T203500Z
END:VEVENT
END:VCALENDAR
