BEGIN:VCALENDAR
VERSION:2.0
PRODID:SchoolNow
CALSCALE:GREGORIAN
BEGIN:VEVENT
UID:9e2829b6-976e-11ed-9912-0a93937208a3
DTSTAMP:20230118T202807Z
SUMMARY:SCHOOL VALENTINE'S DAY PARTY 02/14
URL;VALUE=URI:https://www.dist126.org/early-childhood-center/calendar/36723
 93/school-valentines-day-party-02-14
DTSTART:20230214T143500Z
DTEND:20230214T203500Z
END:VEVENT
END:VCALENDAR
