BEGIN:VCALENDAR
VERSION:2.0
PRODID:SchoolNow
CALSCALE:GREGORIAN
BEGIN:VEVENT
UID:ec598202-976d-11ed-83b2-0a93937208a3
DTSTAMP:20230118T202309Z
SUMMARY:100 DAYS OF PRESCHOOL 02/10
URL;VALUE=URI:https://www.dist126.org/early-childhood-center/calendar/36723
 92/100-days-of-preschool-02-10
DTSTART:20230210T143500Z
DTEND:20230210T203500Z
END:VEVENT
END:VCALENDAR
