BEGIN:VCALENDAR
VERSION:2.0
PRODID:SchoolNow
CALSCALE:GREGORIAN
BEGIN:VEVENT
UID:0abd0de2-976c-11ed-8926-0a93937208a3
DTSTAMP:20230118T201737Z
SUMMARY:WORLD KINDNESS WEEK 1/23 - 1/27
URL;VALUE=URI:https://www.dist126.org/early-childhood-center/calendar/36723
 87/world-kindness-week-1-23-1-27-2023
DTSTART:20230123T200300Z
DTEND:20230127T210300Z
END:VEVENT
END:VCALENDAR
