BEGIN:VCALENDAR
VERSION:2.0
PRODID:SchoolNow
CALSCALE:GREGORIAN
BEGIN:VEVENT
UID:a23eb46c-75a8-11ed-90c3-0e81834486f7
DTSTAMP:20221206T205745Z
SUMMARY:WEAR YOUR PJ's DAY 12/22/22
URL;VALUE=URI:https://www.dist126.org/early-childhood-center/calendar/36364
 87/wear-your-pjs-day-12-22-22
DTSTART:20221222T143500Z
DTEND:20221222T203500Z
END:VEVENT
END:VCALENDAR
