BEGIN:VCALENDAR
VERSION:2.0
PRODID:SchoolNow
CALSCALE:GREGORIAN
BEGIN:VEVENT
UID:32de2ad6-75a7-11ed-ab57-028b21bb2c23
DTSTAMP:20221206T204922Z
SUMMARY:ECC FAMILY PARTY 12/21/22
URL;VALUE=URI:https://www.dist126.org/early-childhood-center/calendar/36364
 86/ecc-family-party-12-21-22
DTSTART;VALUE=DATE:20221221
DTEND;VALUE=DATE:20221222
END:VEVENT
END:VCALENDAR
