BEGIN:VCALENDAR
VERSION:2.0
PRODID:SchoolNow
CALSCALE:GREGORIAN
BEGIN:VEVENT
UID:9619b030-75a6-11ed-9dc3-028b21bb2c23
DTSTAMP:20221206T204306Z
SUMMARY:BACK TO SCHOOL FROM WINTER BREAK 01/09/2023
URL;VALUE=URI:https://www.dist126.org/early-childhood-center/calendar/36364
 85/back-to-school-from-winter-break-01-09-2023
DTSTART:20230109T143500Z
DTEND:20230109T203500Z
END:VEVENT
END:VCALENDAR
