BEGIN:VCALENDAR
VERSION:2.0
PRODID:SchoolNow
CALSCALE:GREGORIAN
BEGIN:VEVENT
UID:189062c6-75a6-11ed-8bcb-028b21bb2c23
DTSTAMP:20221206T203935Z
SUMMARY:Winter Break 12/23/22 - 01/06/23
URL;VALUE=URI:https://www.dist126.org/early-childhood-center/calendar/36364
 81/winter-break-12-23-22-01-06-23
DTSTART;VALUE=DATE:20221223
DTEND;VALUE=DATE:20230107
END:VEVENT
END:VCALENDAR
