BEGIN:VCALENDAR
VERSION:2.0
PRODID:SchoolNow
CALSCALE:GREGORIAN
BEGIN:VEVENT
UID:f188008c-75a3-11ed-bbe9-028294a7fa67
DTSTAMP:20221206T202445Z
SUMMARY:Dress Up in Red/White or in Stripes 12/12/22
URL;VALUE=URI:https://www.dist126.org/early-childhood-center/calendar/36364
 75/dress-up-in-red-white-or-in-stripes
DTSTART:20221212T143500Z
DTEND:20221212T203500Z
END:VEVENT
END:VCALENDAR
