BEGIN:VCALENDAR
VERSION:2.0
PRODID:SchoolNow
CALSCALE:GREGORIAN
BEGIN:VEVENT
UID:13fffbfa-64f7-11ed-8597-0e83444697e7
DTSTAMP:20221115T151505Z
SUMMARY:IDPH COVID & FLU VACCINE CLINIC 11/21/22
URL;VALUE=URI:https://www.dist126.org/early-childhood-center/calendar/36107
 94/idph-covid-flu-vaccine-clinic-11-21-22
DTSTART:20221121T220000Z
DTEND:20221122T010000Z
END:VEVENT
END:VCALENDAR
