BEGIN:VCALENDAR
VERSION:2.0
PRODID:SchoolNow
CALSCALE:GREGORIAN
BEGIN:VEVENT
UID:8cb8333c-53d6-11ed-8771-0e840d6578cb
DTSTAMP:20221024T200046Z
SUMMARY:THANKSGIVING BREAK 11/23-11/25
URL;VALUE=URI:https://www.dist126.org/early-childhood-center/calendar/35553
 87/thanksgiving-break-11-23-11-25
DTSTART;VALUE=DATE:20221123
DTEND;VALUE=DATE:20221126
END:VEVENT
END:VCALENDAR
