BEGIN:VCALENDAR
VERSION:2.0
PRODID:SchoolNow
CALSCALE:GREGORIAN
BEGIN:VEVENT
UID:1907e884-53d5-11ed-9c89-0a36503c5773
DTSTAMP:20221024T195023Z
SUMMARY:PARENT TEACHER CONFERENCES 11/21 & 11/22
URL;VALUE=URI:https://www.dist126.org/early-childhood-center/calendar/35553
 83/parent-teacher-conferences-11-21-11-22
DTSTART:20221121T143500Z
DTEND:20221122T203500Z
END:VEVENT
END:VCALENDAR
