BEGIN:VCALENDAR
VERSION:2.0
PRODID:SchoolNow
CALSCALE:GREGORIAN
BEGIN:VEVENT
UID:03d7a910-53d3-11ed-8d4e-02069a65808b
DTSTAMP:20221024T193528Z
SUMMARY:ECC PICTURE RETAKE 11/09/2022
URL;VALUE=URI:https://www.dist126.org/early-childhood-center/calendar/35553
 72/ecc-picture-retake-11-09-2022
DTSTART:20221109T143500Z
DTEND:20221109T203500Z
END:VEVENT
END:VCALENDAR
