BEGIN:VCALENDAR
VERSION:2.0
PRODID:SchoolNow
CALSCALE:GREGORIAN
BEGIN:VEVENT
UID:14281a40-53d1-11ed-8636-02069a65808b
DTSTAMP:20221024T192225Z
SUMMARY:ELECTION DAY - NO SCHOOL 11/08/22
URL;VALUE=URI:https://www.dist126.org/early-childhood-center/calendar/35553
 70/election-day-no-school-11-08
DTSTART;VALUE=DATE:20221108
DTEND;VALUE=DATE:20221109
END:VEVENT
END:VCALENDAR
