BEGIN:VCALENDAR
VERSION:2.0
PRODID:SchoolNow
CALSCALE:GREGORIAN
BEGIN:VEVENT
UID:9eadb090-53d0-11ed-96e5-02069a65808b
DTSTAMP:20221024T191916Z
SUMMARY:FALL BACK TIME CHANGE 2022
URL;VALUE=URI:https://www.dist126.org/early-childhood-center/calendar/35553
 69/fall-back-2022
DTSTART;VALUE=DATE:20221106
DTEND;VALUE=DATE:20221107
END:VEVENT
END:VCALENDAR
