BEGIN:VCALENDAR
VERSION:2.0
PRODID:SchoolNow
CALSCALE:GREGORIAN
BEGIN:VEVENT
UID:2da86646-384c-11ed-a5b6-02151f576125
DTSTAMP:20220919T185215Z
SUMMARY:COLUMBUS DAY 10/10/22
URL;VALUE=URI:https://www.dist126.org/early-childhood-center/calendar/34143
 49/columbus-day-10-10-22
DTSTART;VALUE=DATE:20221010
DTEND;VALUE=DATE:20221011
END:VEVENT
END:VCALENDAR
