BEGIN:VCALENDAR
VERSION:2.0
PRODID:SchoolNow
CALSCALE:GREGORIAN
BEGIN:VEVENT
UID:8b0a8874-384b-11ed-964c-02151f576125
DTSTAMP:20220919T184742Z
SUMMARY:KONOW'S CORN MAZE FIELD TRIP 10/07/22
URL;VALUE=URI:https://www.dist126.org/early-childhood-center/calendar/34143
 10/konows-corn-maze-field-trip-10-07-22
DTSTART:20221007T133500Z
DTEND:20221007T193500Z
END:VEVENT
END:VCALENDAR
