BEGIN:VCALENDAR
VERSION:2.0
PRODID:SchoolNow
CALSCALE:GREGORIAN
BEGIN:VEVENT
UID:35c7678e-384a-11ed-9d99-02151f576125
DTSTAMP:20220919T183809Z
SUMMARY:GRANDPARENTS and SPECIAL FRIEND'S DAY 09/30/22
URL;VALUE=URI:https://www.dist126.org/early-childhood-center/calendar/34143
 07/grandparents-and-special-friends-day-09-30-22
DTSTART:20220930T133500Z
DTEND:20220930T193500Z
END:VEVENT
END:VCALENDAR
