BEGIN:VCALENDAR
VERSION:2.0
PRODID:SchoolNow
CALSCALE:GREGORIAN
BEGIN:VEVENT
UID:81440bf0-2def-11ed-8486-0e9844e94081
DTSTAMP:20230118T203219Z
SUMMARY:SCHOOL IMPROVEMENT DAY 02/15
URL;VALUE=URI:https://www.dist126.org/early-childhood-center/calendar/33512
 57/school-improvement-day-9-14-22
DTSTART:20230215T143000Z
DTEND:20230215T174500Z
END:VEVENT
END:VCALENDAR
