BEGIN:VCALENDAR
VERSION:2.0
PRODID:SchoolNow
CALSCALE:GREGORIAN
BEGIN:VEVENT
UID:0aea6a5e-2245-11ed-8b47-02588b14bb3d
DTSTAMP:20220822T180658Z
SUMMARY:PARENT INFORMATION MEETING
URL;VALUE=URI:https://www.dist126.org/early-childhood-center/calendar/32949
 56/parent-meeting
DTSTART:20220822T223000Z
DTEND:20220822T233000Z
END:VEVENT
END:VCALENDAR
