BEGIN:VCALENDAR
VERSION:2.0
PRODID:SchoolNow
CALSCALE:GREGORIAN
BEGIN:VEVENT
UID:58f1b78e-1421-11ed-bc3f-02801c9d72c7
DTSTAMP:20220804T181520Z
SUMMARY:ICE CREAM SOCIAL / PICNIC 8/18/22
URL;VALUE=URI:https://www.dist126.org/early-childhood-center/calendar/32715
 51/ice-cream-social-picnic-8-18
DTSTART:20220818T200000Z
DTEND:20220818T220000Z
END:VEVENT
END:VCALENDAR
