BEGIN:VCALENDAR
VERSION:2.0
PRODID:SchoolNow
CALSCALE:GREGORIAN
BEGIN:VEVENT
UID:f023030e-141e-11ed-bbd0-0e5199783319
DTSTAMP:20220808T195311Z
SUMMARY:MEET AND GREET 08/22/22
URL;VALUE=URI:https://www.dist126.org/early-childhood-center/calendar/32713
 88/meet-and-greet-08-22-22
DTSTART:20220822T160400Z
DTEND:20220822T170400Z
END:VEVENT
END:VCALENDAR
