BEGIN:VCALENDAR
VERSION:2.0
PRODID:SchoolNow
CALSCALE:GREGORIAN
BEGIN:VEVENT
UID:6fb41204-140e-11ed-9363-0eea2e264ec9
DTSTAMP:20220805T205407Z
SUMMARY:FIRST DAY OF PRESCHOOL  08/23/22
URL;VALUE=URI:https://www.dist126.org/early-childhood-center/calendar/32713
 20/first-day-of-preschool-08-23-22
DTSTART:20220823T133500Z
DTEND:20220823T193500Z
END:VEVENT
END:VCALENDAR
