BEGIN:VCALENDAR
VERSION:2.0
PRODID:SchoolNow
CALSCALE:GREGORIAN
BEGIN:VEVENT
UID:9b0c21ee-e27c-11ec-8f9b-026087ad0a89
DTSTAMP:20220602T140214Z
SUMMARY:ECC SUMMER PROGRAM 2022
URL;VALUE=URI:https://www.dist126.org/early-childhood-center/calendar/32104
 04/ecc-summer-program-2022
DTSTART:20220613T133000Z
DTEND:20220707T160000Z
END:VEVENT
END:VCALENDAR
