BEGIN:VCALENDAR
VERSION:2.0
PRODID:SchoolNow
CALSCALE:GREGORIAN
BEGIN:VEVENT
UID:a475de9a-e278-11ec-b1a2-0a1cfe3ccba1
DTSTAMP:20220602T141229Z
SUMMARY:ECC SUMMER OFFICE HOURS
URL;VALUE=URI:https://www.dist126.org/early-childhood-center/calendar/32104
 03/ecc-summer-office-hours
DTSTART:20220606T130000Z
DTEND:20220719T203000Z
END:VEVENT
END:VCALENDAR
