BEGIN:VCALENDAR
VERSION:2.0
PRODID:SchoolNow
CALSCALE:GREGORIAN
BEGIN:VEVENT
UID:67ca02f8-e275-11ec-9b39-0ac3d31c1f9d
DTSTAMP:20220602T131114Z
SUMMARY:LAST DAY OF PRESCHOOL 06/02
URL;VALUE=URI:https://www.dist126.org/early-childhood-center/calendar/32104
 00/last-day-of-school-06-02
DTSTART:20220602T133500Z
DTEND:20220602T193500Z
END:VEVENT
END:VCALENDAR
