BEGIN:VCALENDAR
VERSION:2.0
PRODID:SchoolNow
CALSCALE:GREGORIAN
BEGIN:VEVENT
UID:5bedffb8-c662-11ec-99fd-0e98a3b3e9d1
DTSTAMP:20220427T194546Z
SUMMARY:MUSIC PLAYHOUSE 05/26/2022
URL;VALUE=URI:https://www.dist126.org/early-childhood-center/calendar/31828
 28/music-playhouse-05-26-22
DTSTART:20220526T133500Z
DTEND:20220526T193500Z
END:VEVENT
END:VCALENDAR
