BEGIN:VCALENDAR
VERSION:2.0
PRODID:SchoolNow
CALSCALE:GREGORIAN
BEGIN:VEVENT
UID:0a2115ee-c662-11ec-b311-0e98a3b3e9d1
DTSTAMP:20220427T194500Z
SUMMARY:MUSIC PLAYHOUSE 05/25/2022
URL;VALUE=URI:https://www.dist126.org/early-childhood-center/calendar/31828
 27/music-playhouse-05-25-2022
DTSTART:20220525T133500Z
DTEND:20220525T193500Z
END:VEVENT
END:VCALENDAR
