BEGIN:VCALENDAR
VERSION:2.0
PRODID:SchoolNow
CALSCALE:GREGORIAN
BEGIN:VEVENT
UID:de8233d8-c660-11ec-938e-0e98a3b3e9d1
DTSTAMP:20220427T193401Z
SUMMARY:FIELD TRIP TO THE OAK LAWN CHILDREN'S MUSEUM 05/16/2022
URL;VALUE=URI:https://www.dist126.org/early-childhood-center/calendar/31828
 26/field-trip-to-the-oak-lawn-childrens-museum-05-16-2022
DTSTART:20220516T133500Z
DTEND:20220516T193500Z
END:VEVENT
END:VCALENDAR
