BEGIN:VCALENDAR
VERSION:2.0
PRODID:SchoolNow
CALSCALE:GREGORIAN
BEGIN:VEVENT
UID:5423b8ae-c65d-11ec-90d4-0e8eabc977e5
DTSTAMP:20220427T190748Z
SUMMARY:MOBILE DENTIST 05/05/22
URL;VALUE=URI:https://www.dist126.org/early-childhood-center/calendar/31828
 25/mobile-dentist-05-05-22
DTSTART:20220505T133500Z
DTEND:20220505T193500Z
END:VEVENT
END:VCALENDAR
