BEGIN:VCALENDAR
VERSION:2.0
PRODID:SchoolNow
CALSCALE:GREGORIAN
BEGIN:VEVENT
UID:668d27ce-c17a-11ec-804b-0259765d0fad
DTSTAMP:20230509T182545Z
SUMMARY:NO SCHOOL MEMORIAL DAY 05/29/23
URL;VALUE=URI:https://www.dist126.org/early-childhood-center/calendar/31770
 18/no-school-memorial-day-05-30-22
DTSTART;VALUE=DATE:20230529
DTEND;VALUE=DATE:20230530
END:VEVENT
END:VCALENDAR
