BEGIN:VCALENDAR
VERSION:2.0
PRODID:SchoolNow
CALSCALE:GREGORIAN
BEGIN:VEVENT
UID:d206743e-c179-11ec-be1a-0259765d0fad
DTSTAMP:20230509T182441Z
SUMMARY:INSTITUTE DAY 05/26/23
URL;VALUE=URI:https://www.dist126.org/early-childhood-center/calendar/31770
 17/teacher-institute-day-05-27-22
DTSTART:20230526T133500Z
DTEND:20230526T193500Z
END:VEVENT
END:VCALENDAR
