BEGIN:VCALENDAR
VERSION:2.0
PRODID:SchoolNow
CALSCALE:GREGORIAN
BEGIN:VEVENT
UID:19a36ad2-c179-11ec-bb48-0259765d0fad
DTSTAMP:20220421T134400Z
SUMMARY:CINCO DE MAYO 05/05/22
URL;VALUE=URI:https://www.dist126.org/early-childhood-center/calendar/31770
 15/cinco-de-mayo-05-05-22
DTSTART;VALUE=DATE:20220505
DTEND;VALUE=DATE:20220506
END:VEVENT
END:VCALENDAR
