BEGIN:VCALENDAR
VERSION:2.0
PRODID:SchoolNow
CALSCALE:GREGORIAN
BEGIN:VEVENT
UID:e71757ae-c178-11ec-b033-0259765d0fad
DTSTAMP:20220421T134235Z
SUMMARY:SCHOOL IMPROVEMENT DAY 5/06/22
URL;VALUE=URI:https://www.dist126.org/early-childhood-center/calendar/31770
 14/school-improvement-day-5-06-22
DTSTART:20220506T133500Z
DTEND:20220506T193500Z
END:VEVENT
END:VCALENDAR
