BEGIN:VCALENDAR
VERSION:2.0
PRODID:SchoolNow
CALSCALE:GREGORIAN
BEGIN:VEVENT
UID:739e72fe-c177-11ec-b0e9-0a17c811f7a3
DTSTAMP:20220421T133212Z
SUMMARY:CALENDAR UPDATE 05/04/22
URL;VALUE=URI:https://www.dist126.org/early-childhood-center/calendar/31770
 09/calendar-update-05-04-22
DTSTART:20220504T133500Z
DTEND:20220504T193500Z
END:VEVENT
END:VCALENDAR
