BEGIN:VCALENDAR
VERSION:2.0
PRODID:SchoolNow
CALSCALE:GREGORIAN
BEGIN:VEVENT
UID:13b4f486-c176-11ec-95bb-0e47263453eb
DTSTAMP:20230419T103113Z
SUMMARY:EID-AL-FITR 04/21/23
URL;VALUE=URI:https://www.dist126.org/early-childhood-center/calendar/31770
 07/eid-al-fitr-04-21-23
DTSTART;VALUE=DATE:20230421
DTEND;VALUE=DATE:20230422
END:VEVENT
END:VCALENDAR
