BEGIN:VCALENDAR
VERSION:2.0
PRODID:SchoolNow
CALSCALE:GREGORIAN
BEGIN:VEVENT
UID:f3d53b58-b694-11ec-a255-0a95b268d665
DTSTAMP:20220407T170540Z
SUMMARY:EARTH DAY 04/22
URL;VALUE=URI:https://www.dist126.org/early-childhood-center/calendar/31614
 30/earth-day-04-22
DTSTART;VALUE=DATE:20220422
DTEND;VALUE=DATE:20220423
END:VEVENT
END:VCALENDAR
