BEGIN:VCALENDAR
VERSION:2.0
PRODID:SchoolNow
CALSCALE:GREGORIAN
BEGIN:VEVENT
UID:a1843d40-b694-11ec-935c-0a95b268d665
DTSTAMP:20230403T142214Z
SUMMARY:EASTER 04/09
URL;VALUE=URI:https://www.dist126.org/early-childhood-center/calendar/31614
 29/easter-04-17
DTSTART;VALUE=DATE:20230409
DTEND;VALUE=DATE:20230410
END:VEVENT
END:VCALENDAR
