BEGIN:VCALENDAR
VERSION:2.0
PRODID:SchoolNow
CALSCALE:GREGORIAN
BEGIN:VEVENT
UID:17dec376-b694-11ec-bb5f-0a95b268d665
DTSTAMP:20230403T141523Z
SUMMARY:GOOD FRIDAY 4/07
URL;VALUE=URI:https://www.dist126.org/early-childhood-center/calendar/31614
 28/good-friday-4-15
DTSTART;VALUE=DATE:20230407
DTEND;VALUE=DATE:20230408
END:VEVENT
END:VCALENDAR
