BEGIN:VCALENDAR
VERSION:2.0
PRODID:SchoolNow
CALSCALE:GREGORIAN
BEGIN:VEVENT
UID:882bb4e2-b68d-11ec-ab27-0a8d7f6e5713
DTSTAMP:20230403T141631Z
SUMMARY:SCHOOL BOARD MEETING 04/13/2023
URL;VALUE=URI:https://www.dist126.org/early-childhood-center/calendar/31614
 02/school-board-meeting-4-14
DTSTART:20230414T000000Z
DTEND:20230414T010000Z
END:VEVENT
END:VCALENDAR
