BEGIN:VCALENDAR
VERSION:2.0
PRODID:SchoolNow
CALSCALE:GREGORIAN
BEGIN:VEVENT
UID:3fa41aba-6fda-11ec-afa3-0a14419d786b
DTSTAMP:20230217T195033Z
SUMMARY:PRESIDENT'S DAY 02/20
URL;VALUE=URI:https://www.dist126.org/early-childhood-center/calendar/30532
 03/presidents-day
DTSTART;VALUE=DATE:20230220
DTEND;VALUE=DATE:20230221
END:VEVENT
END:VCALENDAR
