BEGIN:VCALENDAR
VERSION:2.0
PRODID:SchoolNow
CALSCALE:GREGORIAN
BEGIN:VEVENT
UID:b6918e64-6fd5-11ec-afad-0eed19133c1d
DTSTAMP:20230111T152606Z
SUMMARY:MARTIN LUTHER KING JR DAY 2023
URL;VALUE=URI:https://www.dist126.org/early-childhood-center/calendar/30520
 06/martin-luther-king-jr-day
DTSTART;VALUE=DATE:20230116
DTEND;VALUE=DATE:20230117
END:VEVENT
END:VCALENDAR
